BEGIN:VCALENDAR
VERSION:2.0
PRODID:-//Tukios.com/
BEGIN:VEVENT
UID:7decca04-b979-4d88-90f7-6360a6058449@www.shawsheenfuneralhome.com
DTSTAMP:20260422T204725Z
DTSTART:20260606T150000Z
DTEND:20260606T160000Z
SUMMARY:Celebration of Life
DESCRIPTION:
URL:https://www.shawsheenfuneralhome.com/obituaries/judith-pepper-defusco
LOCATION:Westgate Church 100 Winter Street  Weston MA 02493
GEO:42.3332141;-71.314065
END:VEVENT
END:VCALENDAR