BEGIN:VCALENDAR
VERSION:2.0
PRODID:-//Tukios.com/
BEGIN:VEVENT
UID:85a967a2-c2d5-438d-b274-f2e3470ba297@www.shawsheenfuneralhome.com
DTSTAMP:20260424T230845Z
DTSTART:20260502T170000Z
DTEND:20260502T180000Z
SUMMARY:Celebration of Life
DESCRIPTION:
URL:https://www.shawsheenfuneralhome.com/obituaries/augustine-conant-iii
LOCATION: 100 Pine Hill Road  Bedford MA 01730
GEO:42.5033106;-71.2818392
END:VEVENT
END:VCALENDAR